BEGIN:VCALENDAR
VERSION:2.0
PRODID:-//Christian Youth and Students&#039; Network - ECPv6.15.20//NONSGML v1.0//EN
CALSCALE:GREGORIAN
METHOD:PUBLISH
X-ORIGINAL-URL:https://cysnonline.org
X-WR-CALDESC:Events for Christian Youth and Students&#039; Network
REFRESH-INTERVAL;VALUE=DURATION:PT1H
X-Robots-Tag:noindex
X-PUBLISHED-TTL:PT1H
BEGIN:VTIMEZONE
TZID:Africa/Accra
BEGIN:STANDARD
TZOFFSETFROM:+0000
TZOFFSETTO:+0000
TZNAME:GMT
DTSTART:20250101T000000
END:STANDARD
END:VTIMEZONE
BEGIN:VEVENT
DTSTART;VALUE=DATE:20260321
DTEND;VALUE=DATE:20260322
DTSTAMP:20260421T101112
CREATED:20260107T125033Z
LAST-MODIFIED:20260107T125033Z
UID:1553-1774051200-1774137599@cysnonline.org
SUMMARY:General Open Word Camp
DESCRIPTION:For both local and global participants
URL:https://cysnonline.org/event/general-open-word-camp/
LOCATION:Zoom (Virtual Meeting)\, Ghana
END:VEVENT
END:VCALENDAR